BEGIN:VCALENDAR
VERSION:2.0
CALSCALE:GREGORIAN
PRODID:-//Diputació de Barcelona//DibaCMS//EN
BEGIN:VEVENT
UID:58342
DTSTAMP:20260419T222654
DTSTART:20250712T100000
DTEND:20250713T200000
SUMMARY:Festival d'Arts Contemplatives "A Rite of Summer"
LOCATION:Can Bordoi 
METHOD:PUBLISH
X-WR-CALNAME:info@llinarsdelvalles.cat
X-WR-TIMEZONE:Europe/Madrid
DESCRIPTION:
URI:https://www.llinarsdelvalles.cat/actualitat/agenda/festival-darts-contemplatives-a-rite-of-summer.html
CLASS:PUBLIC
END:VEVENT
END:VCALENDAR
