BEGIN:VCALENDAR
VERSION:2.0
CALSCALE:GREGORIAN
PRODID:-//Diputació de Barcelona//DibaCMS//EN
BEGIN:VEVENT
UID:58344
DTSTAMP:20260419T235615
DTSTART:20250712T110000
DTEND:20250712T233000
SUMMARY:5è Llinars Rock
LOCATION:Nova ubicació: a la carpa situada a la Plaça Països Catalans 
METHOD:PUBLISH
X-WR-CALNAME:info@llinarsdelvalles.cat
X-WR-TIMEZONE:Europe/Madrid
DESCRIPTION:
URI:https://www.llinarsdelvalles.cat/actualitat/agenda/5e-llinars-rock.html
CLASS:PUBLIC
END:VEVENT
END:VCALENDAR
