BEGIN:VCALENDAR
VERSION:2.0
CALSCALE:GREGORIAN
PRODID:-//Diputació de Barcelona//DibaCMS//EN
BEGIN:VEVENT
UID:58345
DTSTAMP:20260420T030223
DTSTART:20250712T180000
DTEND:20250712T180000
SUMMARY:Concert d'estiu "40 anys de música a Llinars"
LOCATION:C/ Josep Argila, 39 08450 Llinars del Vallés
METHOD:PUBLISH
X-WR-CALNAME:info@llinarsdelvalles.cat
X-WR-TIMEZONE:Europe/Madrid
DESCRIPTION:A càrrec de la Coral Turó del Vent.

URI:https://www.llinarsdelvalles.cat/actualitat/agenda/concert-destiu-40-anys-de-musica-a-llinars.html
CLASS:PUBLIC
END:VEVENT
END:VCALENDAR
