BEGIN:VCALENDAR
VERSION:2.0
CALSCALE:GREGORIAN
PRODID:-//Diputació de Barcelona//DibaCMS//EN
BEGIN:VEVENT
UID:58346
DTSTAMP:20260419T235929
DTSTART:20250713T200000
DTEND:20250713T200000
SUMMARY:Concert d'estiu "40 anys de música a Llinars"
LOCATION:08450 Llinars del Vallès
METHOD:PUBLISH
X-WR-CALNAME:info@llinarsdelvalles.cat
X-WR-TIMEZONE:Europe/Madrid
DESCRIPTION:A càrrec de la Coral Turó del Vent.

URI:https://www.llinarsdelvalles.cat/actualitat/agenda/58346-concert-destiu-40-anys-de-musica-a-llinars.html
CLASS:PUBLIC
END:VEVENT
END:VCALENDAR
