BEGIN:VCALENDAR
VERSION:2.0
CALSCALE:GREGORIAN
PRODID:-//Diputació de Barcelona//DibaCMS//EN
BEGIN:VEVENT
UID:58353
DTSTAMP:20260420T025227
DTSTART:20250718T220000
DTEND:20250718T220000
SUMMARY:Cinema a la fresca "Casa en Flames"
LOCATION:08450 Llinars del Vallès
METHOD:PUBLISH
X-WR-CALNAME:info@llinarsdelvalles.cat
X-WR-TIMEZONE:Europe/Madrid
DESCRIPTION:A la pineda del Castell Nou.

URI:https://www.llinarsdelvalles.cat/actualitat/agenda/cinema-a-la-fresca-casa-en-flames.html
CLASS:PUBLIC
END:VEVENT
END:VCALENDAR
