BEGIN:VCALENDAR
VERSION:2.0
CALSCALE:GREGORIAN
PRODID:-//Diputació de Barcelona//DibaCMS//EN
BEGIN:VEVENT
UID:58354
DTSTAMP:20260420T041117
DTSTART:20250718T000000
DTEND:20250720T000000
SUMMARY:Festa Major de Can Boatell 2025
LOCATION:08450 Llinars del Vallès
METHOD:PUBLISH
X-WR-CALNAME:info@llinarsdelvalles.cat
X-WR-TIMEZONE:Europe/Madrid
DESCRIPTION:
URI:https://www.llinarsdelvalles.cat/actualitat/agenda/festa-major-de-can-boatell-2025.html
CLASS:PUBLIC
END:VEVENT
END:VCALENDAR
