BEGIN:VCALENDAR
VERSION:2.0
CALSCALE:GREGORIAN
PRODID:-//Diputació de Barcelona//DibaCMS//EN
BEGIN:VEVENT
UID:58356
DTSTAMP:20260419T222725
DTSTART:20250724T180000
DTEND:20250724T190000
SUMMARY:CONTE-TALLER "On és la Nala?" 
LOCATION:Av. Pau Casals, 26 08450 Llinars del Vallès
METHOD:PUBLISH
X-WR-CALNAME:info@llinarsdelvalles.cat
X-WR-TIMEZONE:Europe/Madrid
DESCRIPTION:A càrrec d'Andrea Garuz, autora del text i Cesca Montserrat, il·lustradora

 

URI:https://www.llinarsdelvalles.cat/actualitat/agenda/conte-taller-on-es-la-nala-.html
CLASS:PUBLIC
END:VEVENT
END:VCALENDAR
