BEGIN:VCALENDAR
VERSION:2.0
CALSCALE:GREGORIAN
PRODID:-//Diputació de Barcelona//DibaCMS//EN
BEGIN:VEVENT
UID:58357
DTSTAMP:20260420T110117
DTSTART:20250731T180000
DTEND:20250731T190000
SUMMARY:TALLER INFANTIL Crea la teva pròpia polsera amb l'assemblea de joves!
LOCATION:Av. Pau Casals, 26 08450 Llinars del Vallès
METHOD:PUBLISH
X-WR-CALNAME:info@llinarsdelvalles.cat
X-WR-TIMEZONE:Europe/Madrid
DESCRIPTION:A partir de 5 anys.

URI:https://www.llinarsdelvalles.cat/actualitat/agenda/taller-infantil-crea-la-teva-propia-polsera-amb-lassemblea-de-joves.html
CLASS:PUBLIC
END:VEVENT
END:VCALENDAR
