BEGIN:VCALENDAR
VERSION:2.0
CALSCALE:GREGORIAN
PRODID:-//Diputació de Barcelona//DibaCMS//EN
BEGIN:VEVENT
UID:58358
DTSTAMP:20260420T133241
DTSTART:20250702T000000
DTEND:20250726T000000
SUMMARY:EXPOSICIÓ "Gegants del Montseny" 
LOCATION:Av. Pau Casals, 26 08450 Llinars del Vallès
METHOD:PUBLISH
X-WR-CALNAME:info@llinarsdelvalles.cat
X-WR-TIMEZONE:Europe/Madrid
DESCRIPTION:A càrrec de Mariano Pages

URI:https://www.llinarsdelvalles.cat/actualitat/agenda/exposicio-gegants-del-montseny-.html
CLASS:PUBLIC
END:VEVENT
END:VCALENDAR
