BEGIN:VCALENDAR
VERSION:2.0
CALSCALE:GREGORIAN
PRODID:-//Diputació de Barcelona//DibaCMS//EN
BEGIN:VEVENT
UID:58359
DTSTAMP:20260420T132236
DTSTART:20250817T110000
DTEND:20250817T140000
SUMMARY:JORNADA DE PORTES OBERTES a CAN BORDOl + xerrada sobre la meditació gratuita
LOCATION:Casa Virupa, Disseminat Disseminats, 145, 08450 Barcelona 
METHOD:PUBLISH
X-WR-CALNAME:info@llinarsdelvalles.cat
X-WR-TIMEZONE:Europe/Madrid
DESCRIPTION:Organitza: Casa Virupa

URI:https://www.llinarsdelvalles.cat/actualitat/agenda/jornada-de-portes-obertes-a-can-bordol--xerrada-sobre-la-meditacio-gratuita.html
CLASS:PUBLIC
END:VEVENT
END:VCALENDAR
