BEGIN:VCALENDAR
VERSION:2.0
CALSCALE:GREGORIAN
PRODID:-//Diputació de Barcelona//DibaCMS//EN
BEGIN:VEVENT
UID:58360
DTSTAMP:20260420T075146
DTSTART:20250830T170000
DTEND:20250830T213000
SUMMARY:Festa Major 2025: 3X3 popular i Memorial Xavier Alcaraz
LOCATION:Av. Pau Casals, 18-20 (Àrea central) 08450 Llinars del Vallès
METHOD:PUBLISH
X-WR-CALNAME:info@llinarsdelvalles.cat
X-WR-TIMEZONE:Europe/Madrid
DESCRIPTION:
URI:https://www.llinarsdelvalles.cat/actualitat/agenda/festa-major-2025-3x3-popular-i-memorial-xavier-alcaraz.html
CLASS:PUBLIC
END:VEVENT
END:VCALENDAR
