BEGIN:VCALENDAR
VERSION:2.0
CALSCALE:GREGORIAN
PRODID:-//Diputació de Barcelona//DibaCMS//EN
BEGIN:VEVENT
UID:58361
DTSTAMP:20260420T224150
DTSTART:20250831T100000
DTEND:20250831T200000
SUMMARY:Festa Major 2025: Botigues al carrer
LOCATION:Carrers Santiago Rusiñol, Nou i plaça Caritg 
METHOD:PUBLISH
X-WR-CALNAME:info@llinarsdelvalles.cat
X-WR-TIMEZONE:Europe/Madrid
DESCRIPTION:
URI:https://www.llinarsdelvalles.cat/actualitat/agenda/festa-major-2025-botigues-al-carrer.html
CLASS:PUBLIC
END:VEVENT
END:VCALENDAR
