BEGIN:VCALENDAR
VERSION:2.0
CALSCALE:GREGORIAN
PRODID:-//Diputació de Barcelona//DibaCMS//EN
BEGIN:VEVENT
UID:58362
DTSTAMP:20260420T010951
DTSTART:20250726T000000
DTEND:20250727T000000
SUMMARY:Festa Major de Collsabadell 2025
LOCATION:08450 Llinars del Vallès
METHOD:PUBLISH
X-WR-CALNAME:info@llinarsdelvalles.cat
X-WR-TIMEZONE:Europe/Madrid
DESCRIPTION:Organitza: Colla gegantera la Patufa

URI:https://www.llinarsdelvalles.cat/actualitat/agenda/festa-major-de-collsabadell-2025.html
CLASS:PUBLIC
END:VEVENT
END:VCALENDAR
