BEGIN:VCALENDAR
VERSION:2.0
CALSCALE:GREGORIAN
PRODID:-//Diputació de Barcelona//DibaCMS//EN
BEGIN:VEVENT
UID:58363
DTSTAMP:20260420T050713
DTSTART:20250802T000000
DTEND:20250803T000000
SUMMARY:Festa Major de Sant Esteve del Coll 2025
LOCATION:08450 Llinars del Vallès
METHOD:PUBLISH
X-WR-CALNAME:info@llinarsdelvalles.cat
X-WR-TIMEZONE:Europe/Madrid
DESCRIPTION:Organitza: Av. de Sant Esteve del Coll

URI:https://www.llinarsdelvalles.cat/actualitat/agenda/festa-major-de-sant-esteve-del-coll-2025.html
CLASS:PUBLIC
END:VEVENT
END:VCALENDAR
