BEGIN:VCALENDAR
VERSION:2.0
CALSCALE:GREGORIAN
PRODID:-//Diputació de Barcelona//DibaCMS//EN
BEGIN:VEVENT
UID:58385
DTSTAMP:20260422T120019
DTSTART:20250831T173000
DTEND:20250831T200000
SUMMARY:Festa Major 2025: Desfilada vestits de paper i homenatge a la vida
LOCATION:Av. Pau Casals, 22-24 (Àrea central) 08450 Llinars del Vallès
METHOD:PUBLISH
X-WR-CALNAME:info@llinarsdelvalles.cat
X-WR-TIMEZONE:Europe/Madrid
DESCRIPTION:
URI:https://www.llinarsdelvalles.cat/actualitat/agenda/festa-major-2025-desfilada-vestits-de-paper-i-homenatge-a-la-vida.html
CLASS:PUBLIC
END:VEVENT
END:VCALENDAR
