BEGIN:VCALENDAR
VERSION:2.0
CALSCALE:GREGORIAN
PRODID:-//Diputació de Barcelona//DibaCMS//EN
BEGIN:VEVENT
UID:58386
DTSTAMP:20260420T081135
DTSTART:20250904T184500
DTEND:20250904T190000
SUMMARY:Festa Major 2025: Arribada del Gegant Boig i lliurament de la clau del poble
LOCATION:
METHOD:PUBLISH
X-WR-CALNAME:info@llinarsdelvalles.cat
X-WR-TIMEZONE:Europe/Madrid
DESCRIPTION:
URI:https://www.llinarsdelvalles.cat/actualitat/agenda/festa-major-2025-arribada-del-gegant-boig-i-lliurament-de-la-clau-del-poble.html
CLASS:PUBLIC
END:VEVENT
END:VCALENDAR
