BEGIN:VCALENDAR
VERSION:2.0
CALSCALE:GREGORIAN
PRODID:-//Diputació de Barcelona//DibaCMS//EN
BEGIN:VEVENT
UID:58387
DTSTAMP:20260420T143938
DTSTART:20250830T170000
DTEND:20250830T190000
SUMMARY:Festa Major 2025: Bicicletada a la Vall de Can Jané
LOCATION:
METHOD:PUBLISH
X-WR-CALNAME:info@llinarsdelvalles.cat
X-WR-TIMEZONE:Europe/Madrid
DESCRIPTION:
URI:https://www.llinarsdelvalles.cat/actualitat/agenda/festa-major-2025-bicicletada-a-la-vall-de-can-jane.html
CLASS:PUBLIC
END:VEVENT
END:VCALENDAR
