BEGIN:VCALENDAR
VERSION:2.0
CALSCALE:GREGORIAN
PRODID:-//Diputació de Barcelona//DibaCMS//EN
BEGIN:VEVENT
UID:58388
DTSTAMP:20260420T201219
DTSTART:20250830T210000
DTEND:20250830T230000
SUMMARY:Festa Major 2025: Passejada familiar nocturna amb pintxo de botifarra
LOCATION:
METHOD:PUBLISH
X-WR-CALNAME:info@llinarsdelvalles.cat
X-WR-TIMEZONE:Europe/Madrid
DESCRIPTION:
URI:https://www.llinarsdelvalles.cat/actualitat/agenda/festa-major-2025-passejada-familiar-nocturna-amb-pintxo-de-botifarra.html
CLASS:PUBLIC
END:VEVENT
END:VCALENDAR
