BEGIN:VCALENDAR
VERSION:2.0
CALSCALE:GREGORIAN
PRODID:-//Diputació de Barcelona//DibaCMS//EN
BEGIN:VEVENT
UID:58389
DTSTAMP:20260420T224032
DTSTART:20250830T210000
DTEND:20250830T235500
SUMMARY:Festa Major 2025: Ball a la fresca
LOCATION:Av. Pau Casals, 18-20 (Àrea central) 08450 Llinars del Vallès
METHOD:PUBLISH
X-WR-CALNAME:info@llinarsdelvalles.cat
X-WR-TIMEZONE:Europe/Madrid
DESCRIPTION:
URI:https://www.llinarsdelvalles.cat/actualitat/agenda/festa-major-2025-ball-a-la-fresca.html
CLASS:PUBLIC
END:VEVENT
END:VCALENDAR
