BEGIN:VCALENDAR
VERSION:2.0
CALSCALE:GREGORIAN
PRODID:-//Diputació de Barcelona//DibaCMS//EN
BEGIN:VEVENT
UID:58391
DTSTAMP:20260420T075115
DTSTART:20250903T180000
DTEND:20250903T190000
SUMMARY:Festa Major 2025: Inauguració de l'exposició 'Pintures-dibuixos en memòria dels alcaldes dels segles XIX al XXI', de l’artista OTTO
LOCATION:
METHOD:PUBLISH
X-WR-CALNAME:info@llinarsdelvalles.cat
X-WR-TIMEZONE:Europe/Madrid
DESCRIPTION:
URI:https://www.llinarsdelvalles.cat/actualitat/agenda/festa-major-2025-inauguracio-de-lexposicio-pintures-dibuixos-en-memoria-dels-alcaldes-dels-segles-xix-al-xxide-lartista-otto.html
CLASS:PUBLIC
END:VEVENT
END:VCALENDAR
