BEGIN:VCALENDAR
VERSION:2.0
CALSCALE:GREGORIAN
PRODID:-//Diputació de Barcelona//DibaCMS//EN
BEGIN:VEVENT
UID:58392
DTSTAMP:20260420T092507
DTSTART:20250903T180000
DTEND:20250903T210000
SUMMARY:Festa Major 2025: Obrim el rocòdrom de l'Escola Ginebró
LOCATION:
METHOD:PUBLISH
X-WR-CALNAME:info@llinarsdelvalles.cat
X-WR-TIMEZONE:Europe/Madrid
DESCRIPTION:
URI:https://www.llinarsdelvalles.cat/actualitat/agenda/festa-major-2025-obrim-el-rocodrom-de-lescola-ginebro.html
CLASS:PUBLIC
END:VEVENT
END:VCALENDAR
