BEGIN:VCALENDAR
VERSION:2.0
CALSCALE:GREGORIAN
PRODID:-//Diputació de Barcelona//DibaCMS//EN
BEGIN:VEVENT
UID:58393
DTSTAMP:20260420T115751
DTSTART:20250904T120000
DTEND:20250904T130000
SUMMARY:Festa Major 2025: Missa pels malalts i la gent gran
LOCATION:
METHOD:PUBLISH
X-WR-CALNAME:info@llinarsdelvalles.cat
X-WR-TIMEZONE:Europe/Madrid
DESCRIPTION:
URI:https://www.llinarsdelvalles.cat/actualitat/agenda/festa-major-2025-missa-pels-malalts-i-la-gent-gran.html
CLASS:PUBLIC
END:VEVENT
END:VCALENDAR
