BEGIN:VCALENDAR
VERSION:2.0
CALSCALE:GREGORIAN
PRODID:-//Diputació de Barcelona//DibaCMS//EN
BEGIN:VEVENT
UID:58394
DTSTAMP:20260420T103814
DTSTART:20250830T093000
DTEND:20250907T200000
SUMMARY:Festa Major 2025: VI Open de billar 600 a tres bandes
LOCATION:
METHOD:PUBLISH
X-WR-CALNAME:info@llinarsdelvalles.cat
X-WR-TIMEZONE:Europe/Madrid
DESCRIPTION:
URI:https://www.llinarsdelvalles.cat/actualitat/agenda/festa-major-2025-vi-open-de-billar-600-a-tres-bandes.html
CLASS:PUBLIC
END:VEVENT
END:VCALENDAR
