BEGIN:VCALENDAR
VERSION:2.0
CALSCALE:GREGORIAN
PRODID:-//Diputació de Barcelona//DibaCMS//EN
BEGIN:VEVENT
UID:58395
DTSTAMP:20260420T122611
DTSTART:20250904T190000
DTEND:20250904T210000
SUMMARY:Festa Major 2025: Seguici de Festa Major i repic de campanes
LOCATION:
METHOD:PUBLISH
X-WR-CALNAME:info@llinarsdelvalles.cat
X-WR-TIMEZONE:Europe/Madrid
DESCRIPTION:
URI:https://www.llinarsdelvalles.cat/actualitat/agenda/festa-major-2025-seguici-de-festa-major-i-repic-de-campanes.html
CLASS:PUBLIC
END:VEVENT
END:VCALENDAR
