BEGIN:VCALENDAR
VERSION:2.0
CALSCALE:GREGORIAN
PRODID:-//Diputació de Barcelona//DibaCMS//EN
BEGIN:VEVENT
UID:58397
DTSTAMP:20260420T075226
DTSTART:20250904T204500
DTEND:20250904T213000
SUMMARY:Festa Major 2025: Tret d'inici, focs a l'antiga i ballada del corb El Borni
LOCATION:
METHOD:PUBLISH
X-WR-CALNAME:info@llinarsdelvalles.cat
X-WR-TIMEZONE:Europe/Madrid
DESCRIPTION:
URI:https://www.llinarsdelvalles.cat/actualitat/agenda/festa-major-2025-tret-dinici-focs-a-lantiga-i-ballada-del-corb-el-borni.html
CLASS:PUBLIC
END:VEVENT
END:VCALENDAR
