BEGIN:VCALENDAR
VERSION:2.0
CALSCALE:GREGORIAN
PRODID:-//Diputació de Barcelona//DibaCMS//EN
BEGIN:VEVENT
UID:58398
DTSTAMP:20260420T091605
DTSTART:20250904T210000
DTEND:20250904T233000
SUMMARY:Festa Major 2025: Sopar popular de Festa Major
LOCATION:
METHOD:PUBLISH
X-WR-CALNAME:info@llinarsdelvalles.cat
X-WR-TIMEZONE:Europe/Madrid
DESCRIPTION:
URI:https://www.llinarsdelvalles.cat/actualitat/agenda/festa-major-2025-sopar-popular-de-festa-major.html
CLASS:PUBLIC
END:VEVENT
END:VCALENDAR
