BEGIN:VCALENDAR
VERSION:2.0
CALSCALE:GREGORIAN
PRODID:-//Diputació de Barcelona//DibaCMS//EN
BEGIN:VEVENT
UID:58399
DTSTAMP:20260420T063010
DTSTART:20250904T220000
DTEND:20250904T233000
SUMMARY:Festa Major 2025: Gimcana nocturna
LOCATION:
METHOD:PUBLISH
X-WR-CALNAME:info@llinarsdelvalles.cat
X-WR-TIMEZONE:Europe/Madrid
DESCRIPTION:
URI:https://www.llinarsdelvalles.cat/actualitat/agenda/festa-major-2025-gimcana-nocturna.html
CLASS:PUBLIC
END:VEVENT
END:VCALENDAR
