BEGIN:VCALENDAR
VERSION:2.0
CALSCALE:GREGORIAN
PRODID:-//Diputació de Barcelona//DibaCMS//EN
BEGIN:VEVENT
UID:58400
DTSTAMP:20260420T212635
DTSTART:20250904T223000
DTEND:20250904T233000
SUMMARY:Festa Major 2025: Espectacle 'Impro Lovers', de Planeta Impro
LOCATION:
METHOD:PUBLISH
X-WR-CALNAME:info@llinarsdelvalles.cat
X-WR-TIMEZONE:Europe/Madrid
DESCRIPTION:
URI:https://www.llinarsdelvalles.cat/actualitat/agenda/festa-major-2025-espectacle-impro-lovers-de-planeta-impro.html
CLASS:PUBLIC
END:VEVENT
END:VCALENDAR
