BEGIN:VCALENDAR
VERSION:2.0
CALSCALE:GREGORIAN
PRODID:-//Diputació de Barcelona//DibaCMS//EN
BEGIN:VEVENT
UID:58402
DTSTAMP:20260420T063157
DTSTART:20250905T100000
DTEND:20250905T113000
SUMMARY:Festa Major 2025: Concurs de tir de precisió amb aire comprimit entre blaus i vermells
LOCATION:
METHOD:PUBLISH
X-WR-CALNAME:info@llinarsdelvalles.cat
X-WR-TIMEZONE:Europe/Madrid
DESCRIPTION:
URI:https://www.llinarsdelvalles.cat/actualitat/agenda/festa-major-2025-concurs-de-tir-de-precisio-amb-aire-comprimit-entre-blaus-i-vermells.html
CLASS:PUBLIC
END:VEVENT
END:VCALENDAR
