BEGIN:VCALENDAR
VERSION:2.0
CALSCALE:GREGORIAN
PRODID:-//Diputació de Barcelona//DibaCMS//EN
BEGIN:VEVENT
UID:58429
DTSTAMP:20260420T025323
DTSTART:20250906T220000
DTEND:20250906T230000
SUMMARY:Festa Major 2025: Exhibició de balls de saló
LOCATION:
METHOD:PUBLISH
X-WR-CALNAME:info@llinarsdelvalles.cat
X-WR-TIMEZONE:Europe/Madrid
DESCRIPTION:
URI:https://www.llinarsdelvalles.cat/actualitat/agenda/festa-major-2025-exhibicio-de-balls-de-salo.html
CLASS:PUBLIC
END:VEVENT
END:VCALENDAR
