BEGIN:VCALENDAR
VERSION:2.0
CALSCALE:GREGORIAN
PRODID:-//Diputació de Barcelona//DibaCMS//EN
BEGIN:VEVENT
UID:58435
DTSTAMP:20260420T075003
DTSTART:20250907T111500
DTEND:20250907T123000
SUMMARY:Festa Major 2025: Lli'n'dansa
LOCATION:
METHOD:PUBLISH
X-WR-CALNAME:info@llinarsdelvalles.cat
X-WR-TIMEZONE:Europe/Madrid
DESCRIPTION:
URI:https://www.llinarsdelvalles.cat/actualitat/agenda/festa-major-2025-llindansa.html
CLASS:PUBLIC
END:VEVENT
END:VCALENDAR
