BEGIN:VCALENDAR
VERSION:2.0
CALSCALE:GREGORIAN
PRODID:-//Diputació de Barcelona//DibaCMS//EN
BEGIN:VEVENT
UID:58448
DTSTAMP:20260420T155536
DTSTART:20250908T113000
DTEND:20250908T120000
SUMMARY:Festa Major 2025: Missa solemne i ball solemne dels gegants
LOCATION:
METHOD:PUBLISH
X-WR-CALNAME:info@llinarsdelvalles.cat
X-WR-TIMEZONE:Europe/Madrid
DESCRIPTION:
URI:https://www.llinarsdelvalles.cat/actualitat/agenda/58448-festa-major-2025-missa-solemne-i-ball-solemne-dels-gegants.html
CLASS:PUBLIC
END:VEVENT
END:VCALENDAR
