BEGIN:VCALENDAR
VERSION:2.0
CALSCALE:GREGORIAN
PRODID:-//Diputació de Barcelona//DibaCMS//EN
BEGIN:VEVENT
UID:58450
DTSTAMP:20260420T200914
DTSTART:20250908T123500
DTEND:20250908T124000
SUMMARY:Festa Major 2025: Tronada de Festa Major a càrrec de la Pirotècnica Igual 1880
LOCATION:
METHOD:PUBLISH
X-WR-CALNAME:info@llinarsdelvalles.cat
X-WR-TIMEZONE:Europe/Madrid
DESCRIPTION:
URI:https://www.llinarsdelvalles.cat/actualitat/agenda/festa-major-2025-tronada-de-festa-major-a-carrec-de-la-pirotecnica-igual-1880.html
CLASS:PUBLIC
END:VEVENT
END:VCALENDAR
