BEGIN:VCALENDAR
VERSION:2.0
CALSCALE:GREGORIAN
PRODID:-//Diputació de Barcelona//DibaCMS//EN
BEGIN:VEVENT
UID:58454
DTSTAMP:20260420T155816
DTSTART:20250908T183000
DTEND:20250908T184500
SUMMARY:Festa Major 2025: Entrega dels premis de l'Assassí de la pastanaga
LOCATION:
METHOD:PUBLISH
X-WR-CALNAME:info@llinarsdelvalles.cat
X-WR-TIMEZONE:Europe/Madrid
DESCRIPTION:
URI:https://www.llinarsdelvalles.cat/actualitat/agenda/festa-major-2025-entrega-dels-premis-de-lassassi-de-la-pastanaga.html
CLASS:PUBLIC
END:VEVENT
END:VCALENDAR
