BEGIN:VCALENDAR
VERSION:2.0
CALSCALE:GREGORIAN
PRODID:-//Diputació de Barcelona//DibaCMS//EN
BEGIN:VEVENT
UID:58455
DTSTAMP:20260421T002501
DTSTART:20250908T210000
DTEND:20250908T211500
SUMMARY:Festa Major 2025: Veredicte de blaus i vermells
LOCATION:
METHOD:PUBLISH
X-WR-CALNAME:info@llinarsdelvalles.cat
X-WR-TIMEZONE:Europe/Madrid
DESCRIPTION:
URI:https://www.llinarsdelvalles.cat/actualitat/agenda/festa-major-2025-veredicte-de-blaus-i-vermells.html
CLASS:PUBLIC
END:VEVENT
END:VCALENDAR
