BEGIN:VCALENDAR
VERSION:2.0
CALSCALE:GREGORIAN
PRODID:-//Diputació de Barcelona//DibaCMS//EN
BEGIN:VEVENT
UID:58457
DTSTAMP:20260420T212554
DTSTART:20250911T220500
DTEND:20250911T222000
SUMMARY:Festa Major 2025: Ballada del corb El Borni
LOCATION:
METHOD:PUBLISH
X-WR-CALNAME:info@llinarsdelvalles.cat
X-WR-TIMEZONE:Europe/Madrid
DESCRIPTION:
URI:https://www.llinarsdelvalles.cat/actualitat/agenda/festa-major-2025-ballada-del-corb-el-borni.html
CLASS:PUBLIC
END:VEVENT
END:VCALENDAR
