BEGIN:VCALENDAR
VERSION:2.0
CALSCALE:GREGORIAN
PRODID:-//Diputació de Barcelona//DibaCMS//EN
BEGIN:VEVENT
UID:58458
DTSTAMP:20260420T224243
DTSTART:20250908T220000
DTEND:20250908T223000
SUMMARY:Festa Major 2025: Gran castell de focs d'artifici a càrrec de Pirotècnia Igual 1880
LOCATION:
METHOD:PUBLISH
X-WR-CALNAME:info@llinarsdelvalles.cat
X-WR-TIMEZONE:Europe/Madrid
DESCRIPTION:
URI:https://www.llinarsdelvalles.cat/actualitat/agenda/festa-major-2025-gran-castell-de-focs-dartifici-a-carrec-de-pirotecnia-igual-1880.html
CLASS:PUBLIC
END:VEVENT
END:VCALENDAR
