BEGIN:VCALENDAR
VERSION:2.0
CALSCALE:GREGORIAN
PRODID:-//Diputació de Barcelona//DibaCMS//EN
BEGIN:VEVENT
UID:58459
DTSTAMP:20260420T172629
DTSTART:20250911T093000
DTEND:20250911T143000
SUMMARY:Festa Major 2025: Triangular billar 4 modalitats Festa Major
LOCATION:
METHOD:PUBLISH
X-WR-CALNAME:info@llinarsdelvalles.cat
X-WR-TIMEZONE:Europe/Madrid
DESCRIPTION:
URI:https://www.llinarsdelvalles.cat/actualitat/agenda/festa-major-2025-triangular-billar-4-modalitats-festa-major.html
CLASS:PUBLIC
END:VEVENT
END:VCALENDAR
