BEGIN:VCALENDAR
VERSION:2.0
CALSCALE:GREGORIAN
PRODID:-//Diputació de Barcelona//DibaCMS//EN
BEGIN:VEVENT
UID:58460
DTSTAMP:20260421T061158
DTSTART:20250911T093000
DTEND:20250911T143000
SUMMARY:Diada Nacional de Catalunya: Actes oficials
LOCATION:
METHOD:PUBLISH
X-WR-CALNAME:info@llinarsdelvalles.cat
X-WR-TIMEZONE:Europe/Madrid
DESCRIPTION:
URI:https://www.llinarsdelvalles.cat/actualitat/agenda/diada-nacional-de-catalunya-actes-oficials.html
CLASS:PUBLIC
END:VEVENT
END:VCALENDAR
