BEGIN:VCALENDAR
VERSION:2.0
CALSCALE:GREGORIAN
PRODID:-//Diputació de Barcelona//DibaCMS//EN
BEGIN:VEVENT
UID:58461
DTSTAMP:20260420T200759
DTSTART:20250911T110000
DTEND:20250911T113000
SUMMARY:Diada Nacional de Catalunya: Matí bastoner
LOCATION:
METHOD:PUBLISH
X-WR-CALNAME:info@llinarsdelvalles.cat
X-WR-TIMEZONE:Europe/Madrid
DESCRIPTION:
URI:https://www.llinarsdelvalles.cat/actualitat/agenda/diada-nacional-de-catalunya-mati-bastoner.html
CLASS:PUBLIC
END:VEVENT
END:VCALENDAR
