BEGIN:VCALENDAR
VERSION:2.0
CALSCALE:GREGORIAN
PRODID:-//Diputació de Barcelona//DibaCMS//EN
BEGIN:VEVENT
UID:58462
DTSTAMP:20260420T160133
DTSTART:20250911T120000
DTEND:20250911T130000
SUMMARY:Diada Nacional de Catalunya: Diada Castellera
LOCATION:
METHOD:PUBLISH
X-WR-CALNAME:info@llinarsdelvalles.cat
X-WR-TIMEZONE:Europe/Madrid
DESCRIPTION:
URI:https://www.llinarsdelvalles.cat/actualitat/agenda/diada-nacional-de-catalunya-diada-castellera.html
CLASS:PUBLIC
END:VEVENT
END:VCALENDAR
