BEGIN:VCALENDAR
VERSION:2.0
CALSCALE:GREGORIAN
PRODID:-//Diputació de Barcelona//DibaCMS//EN
BEGIN:VEVENT
UID:58463
DTSTAMP:20260420T160225
DTSTART:20250911T180000
DTEND:20250911T190000
SUMMARY:Diada Nacional de Catalunya: Ballada de sardanes
LOCATION:
METHOD:PUBLISH
X-WR-CALNAME:info@llinarsdelvalles.cat
X-WR-TIMEZONE:Europe/Madrid
DESCRIPTION:
URI:https://www.llinarsdelvalles.cat/actualitat/agenda/diada-nacional-de-catalunya-ballada-de-sardanes.html
CLASS:PUBLIC
END:VEVENT
END:VCALENDAR
