BEGIN:VCALENDAR
VERSION:2.0
CALSCALE:GREGORIAN
PRODID:-//Diputació de Barcelona//DibaCMS//EN
BEGIN:VEVENT
UID:58464
DTSTAMP:20260421T003300
DTSTART:20250913T093000
DTEND:20250913T130000
SUMMARY:Festa Major 2025: Torneig social a tres bandes handicap
LOCATION:
METHOD:PUBLISH
X-WR-CALNAME:info@llinarsdelvalles.cat
X-WR-TIMEZONE:Europe/Madrid
DESCRIPTION:
URI:https://www.llinarsdelvalles.cat/actualitat/agenda/festa-major-2025-torneig-social-a-tres-bandes-handicap.html
CLASS:PUBLIC
END:VEVENT
END:VCALENDAR
