BEGIN:VCALENDAR
VERSION:2.0
CALSCALE:GREGORIAN
PRODID:-//Diputació de Barcelona//DibaCMS//EN
BEGIN:VEVENT
UID:58467
DTSTAMP:20260420T143852
DTSTART:20250914T090000
DTEND:20250914T140000
SUMMARY:Festa Major 2025: XII Trobada de motos clàssiques
LOCATION:
METHOD:PUBLISH
X-WR-CALNAME:info@llinarsdelvalles.cat
X-WR-TIMEZONE:Europe/Madrid
DESCRIPTION:
URI:https://www.llinarsdelvalles.cat/actualitat/agenda/festa-major-2025-xii-trobada-de-motos-classiques.html
CLASS:PUBLIC
END:VEVENT
END:VCALENDAR
