BEGIN:VCALENDAR
VERSION:2.0
CALSCALE:GREGORIAN
PRODID:-//Diputació de Barcelona//DibaCMS//EN
BEGIN:VEVENT
UID:58470
DTSTAMP:20260420T212645
DTSTART:20250921T170000
DTEND:20250921T190000
SUMMARY:Ball amb Xarop de Nit
LOCATION:
METHOD:PUBLISH
X-WR-CALNAME:info@llinarsdelvalles.cat
X-WR-TIMEZONE:Europe/Madrid
DESCRIPTION:Sala Polivalent del Casal Cívic i Comunitari

URI:https://www.llinarsdelvalles.cat/actualitat/agenda/58470-ball-amb-xarop-de-nit.html
CLASS:PUBLIC
END:VEVENT
END:VCALENDAR
