BEGIN:VCALENDAR
VERSION:2.0
CALSCALE:GREGORIAN
PRODID:-//Diputació de Barcelona//DibaCMS//EN
BEGIN:VEVENT
UID:58471
DTSTAMP:20260420T172654
DTSTART:20250914T161000
DTEND:20250914T183000
SUMMARY:5a Lliga Catalana LF Challenge
LOCATION:
METHOD:PUBLISH
X-WR-CALNAME:info@llinarsdelvalles.cat
X-WR-TIMEZONE:Europe/Madrid
DESCRIPTION:Final entre Lima Horta Bàsquet i CB Santfeliuenc Femení

Acte emmarcat en la Capitalitat del Bàsquet Femení

URI:https://www.llinarsdelvalles.cat/actualitat/agenda/5a-lliga-catalana-lf-challenge.html
CLASS:PUBLIC
END:VEVENT
END:VCALENDAR
