BEGIN:VCALENDAR
VERSION:2.0
CALSCALE:GREGORIAN
PRODID:-//Diputació de Barcelona//DibaCMS//EN
BEGIN:VEVENT
UID:58527
DTSTAMP:20260421T013402
DTSTART:20251105T190000
DTEND:20251105T200000
SUMMARY:Xerrada amb Anna Pacheco
LOCATION:Can Bordoi 
METHOD:PUBLISH
X-WR-CALNAME:info@llinarsdelvalles.cat
X-WR-TIMEZONE:Europe/Madrid
DESCRIPTION:Organitzat pel laboratori d'arts contemplatives (LAC).

URI:https://www.llinarsdelvalles.cat/actualitat/agenda/xerrada-amb-anna-pacheco.html
CLASS:PUBLIC
END:VEVENT
END:VCALENDAR
