BEGIN:VCALENDAR
VERSION:2.0
CALSCALE:GREGORIAN
PRODID:-//Diputació de Barcelona//DibaCMS//EN
BEGIN:VEVENT
UID:58528
DTSTAMP:20260421T025204
DTSTART:20251031T163000
DTEND:20251031T163000
SUMMARY:Fira de la Castanya
LOCATION:Passeig Europa de les Nacions. 
METHOD:PUBLISH
X-WR-CALNAME:info@llinarsdelvalles.cat
X-WR-TIMEZONE:Europe/Madrid
DESCRIPTION:Fira dedicada al comerç local i l’artesania amb venda de castanyes i altres productes variats.

URI:https://www.llinarsdelvalles.cat/actualitat/agenda/58528-fira-de-la-castanya.html
CLASS:PUBLIC
END:VEVENT
END:VCALENDAR
