BEGIN:VCALENDAR
VERSION:2.0
CALSCALE:GREGORIAN
PRODID:-//Diputació de Barcelona//DibaCMS//EN
BEGIN:VEVENT
UID:58529
DTSTAMP:20260421T051642
DTSTART:20251031T170000
DTEND:20251031T183000
SUMMARY:Taller de cuina en família “Panellets”
LOCATION:C/ Josep Argila, 39 08450 Llinars del Vallés
METHOD:PUBLISH
X-WR-CALNAME:info@llinarsdelvalles.cat
X-WR-TIMEZONE:Europe/Madrid
DESCRIPTION:
URI:https://www.llinarsdelvalles.cat/actualitat/agenda/taller-de-cuina-en-familia-panellets.html
CLASS:PUBLIC
END:VEVENT
END:VCALENDAR
