BEGIN:VCALENDAR
VERSION:2.0
CALSCALE:GREGORIAN
PRODID:-//Diputació de Barcelona//DibaCMS//EN
BEGIN:VEVENT
UID:58535
DTSTAMP:20260421T022246
DTSTART:20251029T093000
DTEND:20251029T113000
SUMMARY:Caminades saludables
LOCATION:
METHOD:PUBLISH
X-WR-CALNAME:info@llinarsdelvalles.cat
X-WR-TIMEZONE:Europe/Madrid
DESCRIPTION:Cada dimecres al matí

Nivell mitjà (6-8 km)

URI:https://www.llinarsdelvalles.cat/actualitat/agenda/58535-caminades-saludables.html
CLASS:PUBLIC
END:VEVENT
END:VCALENDAR
